BEGIN:VCALENDAR
VERSION:2.0
PRODID:-//sgl.at - ECPv6.15.20//NONSGML v1.0//EN
CALSCALE:GREGORIAN
METHOD:PUBLISH
X-ORIGINAL-URL:https://www.sgl.at
X-WR-CALDESC:Veranstaltungen für sgl.at
REFRESH-INTERVAL;VALUE=DURATION:PT1H
X-Robots-Tag:noindex
X-PUBLISHED-TTL:PT1H
BEGIN:VTIMEZONE
TZID:Europe/Vienna
BEGIN:DAYLIGHT
TZOFFSETFROM:+0100
TZOFFSETTO:+0200
TZNAME:CEST
DTSTART:20220327T010000
END:DAYLIGHT
BEGIN:STANDARD
TZOFFSETFROM:+0200
TZOFFSETTO:+0100
TZNAME:CET
DTSTART:20221030T010000
END:STANDARD
BEGIN:DAYLIGHT
TZOFFSETFROM:+0100
TZOFFSETTO:+0200
TZNAME:CEST
DTSTART:20230326T010000
END:DAYLIGHT
BEGIN:STANDARD
TZOFFSETFROM:+0200
TZOFFSETTO:+0100
TZNAME:CET
DTSTART:20231029T010000
END:STANDARD
BEGIN:DAYLIGHT
TZOFFSETFROM:+0100
TZOFFSETTO:+0200
TZNAME:CEST
DTSTART:20240331T010000
END:DAYLIGHT
BEGIN:STANDARD
TZOFFSETFROM:+0200
TZOFFSETTO:+0100
TZNAME:CET
DTSTART:20241027T010000
END:STANDARD
END:VTIMEZONE
BEGIN:VEVENT
DTSTART;VALUE=DATE:20230310
DTEND;VALUE=DATE:20230313
DTSTAMP:20260419T151429
CREATED:20230112T091213Z
LAST-MODIFIED:20230115T172225Z
UID:6323-1678406400-1678582799@www.sgl.at
SUMMARY:HSV Western Kombi Cup 1
DESCRIPTION:Ausschreibung
URL:https://www.sgl.at/event/hsv-western-kombi-cup-1
LOCATION:HSV Wien\, In den Gabrissen 91\, Wien\, 1210\, Austria
END:VEVENT
BEGIN:VEVENT
DTSTART;VALUE=DATE:20230311
DTEND;VALUE=DATE:20230312
DTSTAMP:20260419T151429
CREATED:20230131T214830Z
LAST-MODIFIED:20230131T221050Z
UID:6493-1678492800-1678503600@www.sgl.at
SUMMARY:Ordonanz FFW & Langwaffen Frühjahr 2023
DESCRIPTION:Beginn\n09:00\n\n\nNennschluss\n12:00\n\n\nNenngeld\nGäste € 10\,-\, kein Nachkauf\n\n\nTeilnehmer\nMitglieder der Schützengilde Leopoldsdorf und Gäste\n\n\nWaffen\n25m – Revolver\n25m – Pistole\n100m – Langwaffe mit Zielfernrohr (ZF)\n100m – Langwaffe offene Visierung (OV)alle Waffen bis Bj 1945\n\n\nVisier\noffen/ZF (nur originale)\n\n\nMunition\noriginale und wiedergeladene\n\n\nAnschlag\nsitzend vorne aufgelegt (LW)\nstehen frei\, ein oder beidhändig (FFW)\n\n\nScheibe\n25m Schnellfeuerscheibe\n100m Militärscheibe (ZF)\n100m Präzisionsscheibe (OV)\n\n\nEntfernung\n25m\, 100m\n\n\nNicht zugelassen\nSchießjacken\, Schiessriemen\n\n\nAblauf 100m\n\n\n\n3 Schuß Probe\, Trefferbeobachtung mit Spektiv erlaubt\n10 Schuß Wertung\n5 Minuten für Probe\, 10 Minuten für Wertung\nDie 10 besten Treffer werden gewertet\n\n\n\n\nAblauf 25m\n\n\n\n\nBemerkungen\nJeder Schütze haftet für seine abgegebenen Schüsse\n\n\nDatenschutz\nEs wird darauf hingewiesen\, dass durch die Teilnahme an dieser Veranstaltung eine Ergebnisliste mit Vorname / Nachname und Platzierung auf unserer Webseite\, www.sgl.at\, unter der Rubrik „Ergebnisse“ zur Ansicht bzw. zum Download veröffentlicht wird. Durch die Teilnahme an dieser Veranstaltung erklärt sich jede/r Teilnehmer/in mit der Veröffentlichung auf unserer Webseite einverstanden. Die erhaltenen Daten werden nicht an Dritte weitergegeben.\n\n\n\n  \n 
URL:https://www.sgl.at/event/ordonanz-ffw-langwaffen-fruehjahr-2023
LOCATION:Haringsee\, Schiessplatzweg 1\, Haringsee\, 2286\, Austria
CATEGORIES:Bewerb
ORGANIZER;CN="Sch%C3%BCtzengilde Leopoldsdorf":MAILTO:office@sgl.at
END:VEVENT
BEGIN:VEVENT
DTSTART;VALUE=DATE:20230318
DTEND;VALUE=DATE:20230321
DTSTAMP:20260419T151429
CREATED:20230112T084147Z
LAST-MODIFIED:20230112T084630Z
UID:6296-1679097600-1679273999@www.sgl.at
SUMMARY:NÖ FFWGK CUP 2023
DESCRIPTION:Hier gehts zur Ausschreibung \n1. Runde: 18.\,19.\,25. und 26. März 2023 Schützenverein 1602 Stockerau\, 2000 Stockerau\, Alte Au 22. Runde: 22. und 23. April 2023 SLGE Gmünd\, 3950 Gmünd\, Grenzlandstraße 103. Runde: 19.\,20. und 21. Mai 2023 HSV St.Pölten 3300 St. Pölten\, Völtendorf4. Runde: 8.\, 9.\, 10. und 11. Juni 2023 ETSSC\, 2523 Tattendorf\, Schießplatzweg 2 \nBei Interesse bitte rechtzeitig anmelden. Die Anmeldung erfolgt über die Vereinsleitung.
URL:https://www.sgl.at/event/noe-ffwgk-cup-2023
END:VEVENT
BEGIN:VEVENT
DTSTART;VALUE=DATE:20230325
DTEND;VALUE=DATE:20230326
DTSTAMP:20260419T151429
CREATED:20230318T204254Z
LAST-MODIFIED:20230318T204254Z
UID:6622-1679702400-1679788799@www.sgl.at
SUMMARY:Ordonanzpistolenbewerb 2023\, SVO Salzburg
DESCRIPTION:Ausschreibung
URL:https://www.sgl.at/event/ordonanzpistolenbewerb-2023-svo-salzburg
LOCATION:SV Ordonanzschützen Salzburg\, Landeshauptschießstand Salzburg\, Rechte Saalachzeile 52\, Salzburg\, Salzburg\, 5020\, Austria
END:VEVENT
BEGIN:VEVENT
DTSTART;VALUE=DATE:20230326
DTEND;VALUE=DATE:20230328
DTSTAMP:20260419T151429
CREATED:20230306T215646Z
LAST-MODIFIED:20230306T215646Z
UID:6567-1679788800-1679878799@www.sgl.at
SUMMARY:SC Hirtenberg 1. Preisschießen
DESCRIPTION:Ausschreibung
URL:https://www.sgl.at/event/sc-hirtenberg-1-preisschiessen
LOCATION:Steyr Arms  Schießzentrum\, Am Luckerweg\, Wr. Neustadt\, 2700\, Austria
END:VEVENT
BEGIN:VEVENT
DTSTART;VALUE=DATE:20230331
DTEND;VALUE=DATE:20230404
DTSTAMP:20260419T151429
CREATED:20230307T195740Z
LAST-MODIFIED:20230307T195959Z
UID:6576-1680220800-1680483599@www.sgl.at
SUMMARY:Osterschinken Schießen SV Jagerberg
DESCRIPTION:Ausschreibung
URL:https://www.sgl.at/event/osterschinkenschiessen-sv-jagerberg
LOCATION:SSV Jagerberg\, Jagerberg 97c\, Jagerberg\, 8091\, Austria
END:VEVENT
END:VCALENDAR