BEGIN:VCALENDAR
VERSION:2.0
PRODID:-//sgl.at - ECPv6.15.20//NONSGML v1.0//EN
CALSCALE:GREGORIAN
METHOD:PUBLISH
X-WR-CALNAME:sgl.at
X-ORIGINAL-URL:https://www.sgl.at
X-WR-CALDESC:Veranstaltungen für sgl.at
REFRESH-INTERVAL;VALUE=DURATION:PT1H
X-Robots-Tag:noindex
X-PUBLISHED-TTL:PT1H
BEGIN:VTIMEZONE
TZID:Europe/Vienna
BEGIN:DAYLIGHT
TZOFFSETFROM:+0100
TZOFFSETTO:+0200
TZNAME:CEST
DTSTART:20200329T010000
END:DAYLIGHT
BEGIN:STANDARD
TZOFFSETFROM:+0200
TZOFFSETTO:+0100
TZNAME:CET
DTSTART:20201025T010000
END:STANDARD
BEGIN:DAYLIGHT
TZOFFSETFROM:+0100
TZOFFSETTO:+0200
TZNAME:CEST
DTSTART:20210328T010000
END:DAYLIGHT
BEGIN:STANDARD
TZOFFSETFROM:+0200
TZOFFSETTO:+0100
TZNAME:CET
DTSTART:20211031T010000
END:STANDARD
BEGIN:DAYLIGHT
TZOFFSETFROM:+0100
TZOFFSETTO:+0200
TZNAME:CEST
DTSTART:20220327T010000
END:DAYLIGHT
BEGIN:STANDARD
TZOFFSETFROM:+0200
TZOFFSETTO:+0100
TZNAME:CET
DTSTART:20221030T010000
END:STANDARD
BEGIN:DAYLIGHT
TZOFFSETFROM:+0100
TZOFFSETTO:+0200
TZNAME:CEST
DTSTART:20230326T010000
END:DAYLIGHT
BEGIN:STANDARD
TZOFFSETFROM:+0200
TZOFFSETTO:+0100
TZNAME:CET
DTSTART:20231029T010000
END:STANDARD
END:VTIMEZONE
BEGIN:VEVENT
DTSTART;TZID=Europe/Vienna:20211208T080000
DTEND;TZID=Europe/Vienna:20211208T170000
DTSTAMP:20260423T165930
CREATED:20211208T085131Z
LAST-MODIFIED:20211208T100039Z
UID:5049-1638950400-1638982800@www.sgl.at
SUMMARY:Vorlage
DESCRIPTION:Termin\n\n\n\nOrt\n\n\n\nBeginn\n\n\n\nNennschluss\n\n\n\nNenngeld\n\n\n\nWaffen\n\n\n\nVisier\n\n\n\nMunition\n\n\n\nAnschlag\n\n\n\nScheibe\n\n\n\nEntfernung\n\n\n\nNicht zugelassen\n\n\n\nAblauf\n\n\n\nBemerkungen
URL:https://www.sgl.at/event/5049
END:VEVENT
BEGIN:VEVENT
DTSTART;TZID=Europe/Vienna:20211208T183000
DTEND;TZID=Europe/Vienna:20211208T190000
DTSTAMP:20260423T165930
CREATED:20211208T172232Z
LAST-MODIFIED:20211208T173623Z
UID:5087-1638988200-1638990000@www.sgl.at
SUMMARY:Test mit Online Anmeldung  kurz
DESCRIPTION:Termin\n25.12.2021\n\n\nOrt\nKeller Leopoldsdorf\n\n\nBeginn\n09:00\n\n\nNennschluss\n11:00\n\n\nNenngeld\n150\,-\n\n\nWaffen\nHellebarden\, Morgensterne\n\n\nVisier\ngeschlossen\n\n\nMunition\nalle\n\n\nAnschlag\n125/min\n\n\nScheibe\nrund\n\n\nEntfernung\nso knapp wie möglich\n\n\nNicht zugelassen\nschweinische Witze\n\n\nAblauf\n5 Hiebe Probe\n15 Hiebe Wertung\n\n\nBemerkungen\nTestbewerb mit online Voranmeldung. Max 10 Teilnehmer\n\n\n\n\n\n\n\n 
URL:https://www.sgl.at/event/wintercup-21-22-copy-copy
CATEGORIES:Bewerb
END:VEVENT
BEGIN:VEVENT
DTSTART;TZID=Europe/Vienna:20211213T060000
DTEND;TZID=Europe/Vienna:20211219T230000
DTSTAMP:20260423T165930
CREATED:20211208T085855Z
LAST-MODIFIED:20211219T164633Z
UID:5056-1639375200-1639954800@www.sgl.at
SUMMARY:Wintercup 21/22 1.DG
DESCRIPTION:  \n\n\n\nTermin\n13.- 19.12.2021\n\n\nOrt\nKeller Leopoldsdorf\n\n\nBeginn\n—\n\n\nNennschluss\n—\n\n\nNenngeld\n—\n\n\nWaffen\nFFW-GK\, FFW-KK\n\n\nVisier\noffene Visierung\n\n\nMunition\nGK ab 9mm/.38\, KK.22\n\n\nAnschlag\nstehend frei\n\n\nScheibe\n25m UIT Scheibe/Spiegel (liegt vor Ort auf)\n\n\nEntfernung\ngesamte Distanz Zuganlage\n\n\nNicht zugelassen\n—\n\n\nAblauf\nje Kaliber\n5 Schuß Probe\n10 Schuß für Wertung (die besten aus 15)\nEs wird jeweils am ersten Tag  (Montag) ein Wertungsblatt im Keller aufgelegt und dieses bleibt bis zum letzten Tag (Sonntag) vor Ort.\nAuf Grund der derzeitigen Covid Situation ist das Betreten des Kellers für jeweils eine Person gestattet (ausgenommen Personen die im gleichen Haushalt leben)\n\n\nBemerkungen\n—\n\n\n\n\n\n\n\n 
URL:https://www.sgl.at/event/wintercup-21-22
LOCATION:Keller Leopoldsdorf\, Hauptplatz\, Leopoldsdorf/M.\, 2285\, Austria
CATEGORIES:Bewerb
END:VEVENT
BEGIN:VEVENT
DTSTART;TZID=Europe/Vienna:20211227T080000
DTEND;TZID=Europe/Vienna:20220102T170000
DTSTAMP:20260423T165930
CREATED:20211208T184503Z
LAST-MODIFIED:20211215T220718Z
UID:5127-1640592000-1641142800@www.sgl.at
SUMMARY:Wintercup 21/22 2.DG
DESCRIPTION:Termin\n27.12.2021 – 02.01.2022\n\n\nOrt\nKeller Leopoldsdorf\n\n\nBeginn\n—\n\n\nNennschluss\n—\n\n\nNenngeld\n—\n\n\nWaffen\nFFW-GK\, FFW-KK\n\n\nVisier\noffene Visierung\n\n\nMunition\nGK ab 9mm/.38\, KK.22\n\n\nAnschlag\nstehend frei\n\n\nScheibe\n25m UIT Scheibe/Spiegel (liegt vor Ort auf)\n\n\nEntfernung\ngesamte Distanz Zuganlage\n\n\nNicht zugelassen\n—\n\n\nAblauf\nje Kaliber\n5 Schuß Probe\n10 Schuß für Wertung (die besten aus 15)\nEs wird jeweils am ersten Tag  (Montag) ein Wertungsblatt im Keller aufgelegt und dieses bleibt bis zum letzten Tag (Sonntag) vor Ort.\nAuf Grund der derzeitigen Covid Situation ist das Betreten des Kellers für jeweils eine Person gestattet (ausgenommen Personen die im gleichen Haushalt leben)\n\n\nBemerkungen\n—\n\n\n\n\n\n\n\n 
URL:https://www.sgl.at/event/wintercup-21-22-2-dg
LOCATION:Keller Leopoldsdorf\, Hauptplatz\, Leopoldsdorf/M.\, 2285\, Austria
CATEGORIES:Bewerb
END:VEVENT
BEGIN:VEVENT
DTSTART;TZID=Europe/Vienna:20211231T080000
DTEND;TZID=Europe/Vienna:20211231T110000
DTSTAMP:20260423T165930
CREATED:20211208T123704Z
LAST-MODIFIED:20211227T065446Z
UID:5072-1640937600-1640948400@www.sgl.at
SUMMARY:Testbewerb mit Online Anmeldung
DESCRIPTION:Termin\n31.12.2021\n\n\nOrt\nKeller Leopoldsdorf\n\n\nBeginn\n09:00\n\n\nNennschluss\n11:00\n\n\nNenngeld\n150 Heller 40 Batzen\n\n\nWaffen\nHellebarden\, Morgensterne\n\n\nVisier\ngeschlossen\n\n\nMunition\nalle\n\n\nAnschlag\n125/min\n\n\nScheibe\nrund\n\n\nEntfernung\nso knapp wie möglich\n\n\nNicht zugelassen\nschweinische Witze\n\n\nAblauf\n5 Hiebe Probe\n15 Hiebe Wertung\n\n\nBemerkungen\nTestbewerb mit online Voranmeldung. Max 10 Teilnehmer\n\n\n\n\n\n\n\n 
URL:https://www.sgl.at/event/testbewerb-mit-online-anmeldung
LOCATION:Keller Leopoldsdorf\, Hauptplatz\, Leopoldsdorf/M.\, 2285\, Austria
CATEGORIES:Bewerb
END:VEVENT
END:VCALENDAR