BEGIN:VCALENDAR
VERSION:2.0
PRODID:-//sgl.at - ECPv6.15.20//NONSGML v1.0//EN
CALSCALE:GREGORIAN
METHOD:PUBLISH
X-WR-CALNAME:sgl.at
X-ORIGINAL-URL:https://www.sgl.at
X-WR-CALDESC:Veranstaltungen für sgl.at
REFRESH-INTERVAL;VALUE=DURATION:PT1H
X-Robots-Tag:noindex
X-PUBLISHED-TTL:PT1H
BEGIN:VTIMEZONE
TZID:Europe/Vienna
BEGIN:DAYLIGHT
TZOFFSETFROM:+0100
TZOFFSETTO:+0200
TZNAME:CEST
DTSTART:20220327T010000
END:DAYLIGHT
BEGIN:STANDARD
TZOFFSETFROM:+0200
TZOFFSETTO:+0100
TZNAME:CET
DTSTART:20221030T010000
END:STANDARD
BEGIN:DAYLIGHT
TZOFFSETFROM:+0100
TZOFFSETTO:+0200
TZNAME:CEST
DTSTART:20230326T010000
END:DAYLIGHT
BEGIN:STANDARD
TZOFFSETFROM:+0200
TZOFFSETTO:+0100
TZNAME:CET
DTSTART:20231029T010000
END:STANDARD
BEGIN:DAYLIGHT
TZOFFSETFROM:+0100
TZOFFSETTO:+0200
TZNAME:CEST
DTSTART:20240331T010000
END:DAYLIGHT
BEGIN:STANDARD
TZOFFSETFROM:+0200
TZOFFSETTO:+0100
TZNAME:CET
DTSTART:20241027T010000
END:STANDARD
END:VTIMEZONE
BEGIN:VEVENT
DTSTART;VALUE=DATE:20230520
DTEND;VALUE=DATE:20230521
DTSTAMP:20260420T085427
CREATED:20230131T193305Z
LAST-MODIFIED:20230508T195203Z
UID:6267-1684540800-1684627199@www.sgl.at
SUMMARY:Duell auf Stahl
DESCRIPTION:Termin:\n20. Mai  2023\n\n\nOrt:\nSchießplatz Haringsee\n\n\nAnmeldung:\nBewerb ist auf 32 Starter beschränkt (wegen KO-System)!!! \nDie Voranmeldung ist bei Franz Karner  unter 0699-10306828 oder unter haringsee@gmx.at möglich\, \nbis 9:30 müssen sich die Vorangemeldeten vor Ort einfinden!!\n\n\nNennschluss:\n09:45 Uhr\n\n\nEinteilung der Paarungen:\n09:50 Uhr\n\n\nSchießbeginn:\n10:00 Uhr\n\n\nTeilnehmer:\nMitglieder der SG Leopoldsdorf und Gäste\n\n\nNenngeld:\n€ 10\,-\n\n\nWaffen:\nStandard oder Production nach IPSC\n(Pistole ohne Kompensator und ohne optische Zielhilfe) \nHolster und eine Magazintasche für den Gürtel\nist zwingend erforderlich!!!\n\n\nMunition:\nmind. 9mm\, mind. Faktor 120 nach IPSC\n\n\nScheiben:\nStahlziele\n\n\nAblauf:\n·         Wertung im Doppel-KO-System \n·         Jede Paarung startet gleichzeitig direkt gegeneinander \n·         Beschießen der Ziele aus einer „Box“ \n·         Waffe geladen\, gesichert und geholstert\,\n2tes Magazin in der Magazintasche am Gürtel (nicht im Hosensack!) \n·         Hände in Schulterhöhe \n·         Nach dem Startsignal sind 8 Stahlziele zu beschießen\,\n1 Magazinwechsel ist nach dem 1. Schuss und vor dem letzten Stahlziel vorgeschrieben \n·         Markierte Stoppplatte muss als letzte beschossen werden\, die restlichen 7 Stück Stahlplatten in beliebiger Reihenfolge \n·         für die Wertung müssen die Platten fallen \n·         Bei einem Ablauffehler gewinnt automatisch der Gegner \nSchießbrille ist zwingend erforderlich!!!\n\n\nHaftung:\nJeder Schütze ist für jeden aus seiner Waffe abgegebenen Schuss selbst und in vollem Umfang verantwortlich!\n\n\nInfo\nEs wird darauf hingewiesen\, dass durch die Teilnahme an dieser Veranstaltung eine Ergebnisliste mit Vorname / Nachname und Platzierung auf unserer Webseite\, www.sgl.at\, unter der Rubrik „Ergebnisse“ zur Ansicht bzw. zum Download veröffentlicht wird. Durch die Teilnahme an dieser Veranstaltung erklärt sich jede/r Teilnehmer/in mit der Veröffentlichung auf unserer Webseite einverstanden. Die erhaltenen Daten werden nicht an Dritte weitergegeben.
URL:https://www.sgl.at/event/duell-auf-stahl
LOCATION:Haringsee\, Schiessplatzweg 1\, Haringsee\, 2286\, Austria
ORGANIZER;CN="Sch%C3%BCtzengilde Leopoldsdorf":MAILTO:office@sgl.at
END:VEVENT
END:VCALENDAR