BEGIN:VCALENDAR
VERSION:2.0
PRODID:-//sgl.at - ECPv6.15.20//NONSGML v1.0//EN
CALSCALE:GREGORIAN
METHOD:PUBLISH
X-ORIGINAL-URL:https://www.sgl.at
X-WR-CALDESC:Veranstaltungen für sgl.at
REFRESH-INTERVAL;VALUE=DURATION:PT1H
X-Robots-Tag:noindex
X-PUBLISHED-TTL:PT1H
BEGIN:VTIMEZONE
TZID:Europe/Vienna
BEGIN:DAYLIGHT
TZOFFSETFROM:+0100
TZOFFSETTO:+0200
TZNAME:CEST
DTSTART:20220327T010000
END:DAYLIGHT
BEGIN:STANDARD
TZOFFSETFROM:+0200
TZOFFSETTO:+0100
TZNAME:CET
DTSTART:20221030T010000
END:STANDARD
BEGIN:DAYLIGHT
TZOFFSETFROM:+0100
TZOFFSETTO:+0200
TZNAME:CEST
DTSTART:20230326T010000
END:DAYLIGHT
BEGIN:STANDARD
TZOFFSETFROM:+0200
TZOFFSETTO:+0100
TZNAME:CET
DTSTART:20231029T010000
END:STANDARD
BEGIN:DAYLIGHT
TZOFFSETFROM:+0100
TZOFFSETTO:+0200
TZNAME:CEST
DTSTART:20240331T010000
END:DAYLIGHT
BEGIN:STANDARD
TZOFFSETFROM:+0200
TZOFFSETTO:+0100
TZNAME:CET
DTSTART:20241027T010000
END:STANDARD
END:VTIMEZONE
BEGIN:VEVENT
DTSTART;VALUE=DATE:20230429
DTEND;VALUE=DATE:20230430
DTSTAMP:20260419T183447
CREATED:20230131T195851Z
LAST-MODIFIED:20230406T060518Z
UID:6443-1682726400-1682812799@www.sgl.at
SUMMARY:Wendebewerb KK/GK FFW
DESCRIPTION:Beginn\n09:00\n\n\nNennschluss\n12:00\n\n\nNenngeld\nGäste € 10\,-\, 1x Nachkauf möglich €5\,- für alle nur wenn zeitlich möglich. Gewertet wird nur die erste Serie.\n\n\nTeilnehmer\nMitglieder der Schützengilde Leopoldsdorf und Gäste\n\n\nWaffen\nKK Pistolen und Revolver\, sowie großkalibrige Pistolen und Revolver ab Kal. 7\,65 bis .45\n\n\nVisier\noffene Visierung\n\n\nMunition\nKK Munition sowie großkalibrige ZF Munition Original od. wiedergeladen. Keine Wadcutter oder Stahlmantelgeschosse. Keine Magnumladungen.\n\n\nAnschlag\nStehend frei\, einhändig oder beidhändig\n\n\nScheibe\n25m Präzision- und Schnellfeuerscheibe\n\n\nEntfernung\n25m\n\n\nNicht zugelassen\nSchießjacken\, optische Zielhilfen\, Spektive\n\n\nAblauf\n  5 Schuß Probe in 5 min. \n3 x 5 Schuß in je 5 min.  Auf die Präzisionscheibe \n3 x 5 Schuß  in 7sek. In Abständen von 3sek.\n\n\nBemerkungen\nStart in beiden Klassen möglich. \nExtra Wertung KK und GK \nJeder Schütze haftet für seine abgegebenen Schüsse\n\n\nDatenschutz\nEs wird darauf hingewiesen\, dass durch die Teilnahme an dieser Veranstaltung eine Ergebnisliste mit Vorname / Nachname und Platzierung auf unserer Webseite\, www.sgl.at\, unter der Rubrik „Ergebnisse“ zur Ansicht bzw. zum Download veröffentlicht wird. Durch die Teilnahme an dieser Veranstaltung erklärt sich jede/r Teilnehmer/in mit der Veröffentlichung auf unserer Webseite einverstanden. Die erhaltenen Daten werden nicht an Dritte weitergegeben.
URL:https://www.sgl.at/event/wendebewerb-kk-gk-ffw
LOCATION:Haringsee\, Schiessplatzweg 1\, Haringsee\, 2286\, Austria
END:VEVENT
BEGIN:VEVENT
DTSTART;VALUE=DATE:20230429
DTEND;VALUE=DATE:20230430
DTSTAMP:20260419T183447
CREATED:20230318T205045Z
LAST-MODIFIED:20230318T205045Z
UID:6629-1682726400-1682812799@www.sgl.at
SUMMARY:Ordonanzgewehrbewerb 2023\, SVO Salzburg
DESCRIPTION:Ausschreibung
URL:https://www.sgl.at/event/ordonanzgewehrbewerb-2023-svo-salzburg
LOCATION:SV Ordonanzschützen Salzburg\, Landeshauptschießstand Salzburg\, Rechte Saalachzeile 52\, Salzburg\, Salzburg\, 5020\, Austria
CATEGORIES:Bewerb
END:VEVENT
BEGIN:VEVENT
DTSTART;VALUE=DATE:20230429
DTEND;VALUE=DATE:20230430
DTSTAMP:20260419T183447
CREATED:20230308T163355Z
LAST-MODIFIED:20230308T164452Z
UID:6580-1682726400-1682737200@www.sgl.at
SUMMARY:SSG open
DESCRIPTION:Beginn\n09:00\n\n\nNennschluss\n12:00\n\n\nTeilnehmer\n\nMitglieder der Schützengilde Leopoldsdorf und Gäste\n\n\nNenngeld\nGäste € 10\,- \, 1x Nachkauf (für alle €5\,-) möglich\n\n\nWaffen\nEinzellader\, Selbstlader und Repetierer\, Schäftung beliebig\n(SSG\, Ordonnanz\, Jagdgewehre\, etc.)\n\n\nVisier\nZielfernrohr\, Vergrößerung offen\n\n\nMunition\nZentralfeuer – kein Kleinkaliber!\n\n\nAnschlag\nAm Vorderschaft und Hinterschaft aufgelegt\, Zweibein\, Sandsack\, etc. (Auflage für Vorderschaft am Stand vorhanden)\n\n\nScheibe\nLuftballon\, DM 2cm\n\n\nEntfernung\n100m\n\n\nErlaubtes Zubehör\n\nMündungsbremse\, Flimmerband\, Spektiv\, Fernglas\n\n\nNicht zugelassen\nSchießjacken\, Schießriemen\n\n\nAblauf\n\n\n10 Schüsse\nJeder Schuss auf ein eigenes Ziel\, bei Doppeltreffer pro Scheibe zählt der schlechtere Treffer!\nNur nach den ersten 3 Schuss kann zur Trefferkontrolle der Scheibenwagen eingefahren werden.\n\n\n\n\nBemerkungen\nJeder Schütze haftet für seine abgegebenen Schüsse\n\n\n\nEs wird darauf hingewiesen\, dass durch die Teilnahme an dieser Veranstaltung eine Ergebnisliste mit Vorname / Nachname und Platzierung auf unserer Webseite\, www.sgl.at\, unter der Rubrik „Ergebnisse“ zur Ansicht bzw. zum Download veröffentlicht wird. Durch die Teilnahme an dieser Veranstaltung erklärt sich jede/r Teilnehmer/in mit der Veröffentlichung auf unserer Webseite einverstanden. Die erhaltenen Daten werden nicht an Dritte weitergegeben.\n\n\n\n 
URL:https://www.sgl.at/event/ssg-herbst-2023-copy
LOCATION:Haringsee\, Schiessplatzweg 1\, Haringsee\, 2286\, Austria
CATEGORIES:Bewerb
ORGANIZER;CN="Sch%C3%BCtzengilde Leopoldsdorf":MAILTO:office@sgl.at
END:VEVENT
BEGIN:VEVENT
DTSTART;VALUE=DATE:20230429
DTEND;VALUE=DATE:20230430
DTSTAMP:20260419T183447
CREATED:20230318T201822Z
LAST-MODIFIED:20230318T202257Z
UID:6610-1682726400-1682812799@www.sgl.at
SUMMARY:Militärisches Übungsgewehr 2023\, SVO Salzburg
DESCRIPTION:Ausschreibung
URL:https://www.sgl.at/event/militaerisches-uebungsgewehr-2023-svo-salzburg
LOCATION:SV Ordonanzschützen Salzburg\, Landeshauptschießstand Salzburg\, Rechte Saalachzeile 52\, Salzburg\, Salzburg\, 5020\, Austria
END:VEVENT
END:VCALENDAR