BEGIN:VCALENDAR
VERSION:2.0
PRODID:-//sgl.at - ECPv6.15.20//NONSGML v1.0//EN
CALSCALE:GREGORIAN
METHOD:PUBLISH
X-WR-CALNAME:sgl.at
X-ORIGINAL-URL:https://www.sgl.at
X-WR-CALDESC:Veranstaltungen für sgl.at
REFRESH-INTERVAL;VALUE=DURATION:PT1H
X-Robots-Tag:noindex
X-PUBLISHED-TTL:PT1H
BEGIN:VTIMEZONE
TZID:Europe/Vienna
BEGIN:DAYLIGHT
TZOFFSETFROM:+0100
TZOFFSETTO:+0200
TZNAME:CEST
DTSTART:20220327T010000
END:DAYLIGHT
BEGIN:STANDARD
TZOFFSETFROM:+0200
TZOFFSETTO:+0100
TZNAME:CET
DTSTART:20221030T010000
END:STANDARD
BEGIN:DAYLIGHT
TZOFFSETFROM:+0100
TZOFFSETTO:+0200
TZNAME:CEST
DTSTART:20230326T010000
END:DAYLIGHT
BEGIN:STANDARD
TZOFFSETFROM:+0200
TZOFFSETTO:+0100
TZNAME:CET
DTSTART:20231029T010000
END:STANDARD
BEGIN:DAYLIGHT
TZOFFSETFROM:+0100
TZOFFSETTO:+0200
TZNAME:CEST
DTSTART:20240331T010000
END:DAYLIGHT
BEGIN:STANDARD
TZOFFSETFROM:+0200
TZOFFSETTO:+0100
TZNAME:CET
DTSTART:20241027T010000
END:STANDARD
END:VTIMEZONE
BEGIN:VEVENT
DTSTART;VALUE=DATE:20230318
DTEND;VALUE=DATE:20230321
DTSTAMP:20260419T165704
CREATED:20230112T084147Z
LAST-MODIFIED:20230112T084630Z
UID:6296-1679097600-1679273999@www.sgl.at
SUMMARY:NÖ FFWGK CUP 2023
DESCRIPTION:Hier gehts zur Ausschreibung \n1. Runde: 18.\,19.\,25. und 26. März 2023 Schützenverein 1602 Stockerau\, 2000 Stockerau\, Alte Au 22. Runde: 22. und 23. April 2023 SLGE Gmünd\, 3950 Gmünd\, Grenzlandstraße 103. Runde: 19.\,20. und 21. Mai 2023 HSV St.Pölten 3300 St. Pölten\, Völtendorf4. Runde: 8.\, 9.\, 10. und 11. Juni 2023 ETSSC\, 2523 Tattendorf\, Schießplatzweg 2 \nBei Interesse bitte rechtzeitig anmelden. Die Anmeldung erfolgt über die Vereinsleitung.
URL:https://www.sgl.at/event/noe-ffwgk-cup-2023
END:VEVENT
END:VCALENDAR