BEGIN:VCALENDAR
VERSION:2.0
PRODID:-//sgl.at - ECPv6.15.20//NONSGML v1.0//EN
CALSCALE:GREGORIAN
METHOD:PUBLISH
X-WR-CALNAME:sgl.at
X-ORIGINAL-URL:https://www.sgl.at
X-WR-CALDESC:Veranstaltungen für sgl.at
REFRESH-INTERVAL;VALUE=DURATION:PT1H
X-Robots-Tag:noindex
X-PUBLISHED-TTL:PT1H
BEGIN:VTIMEZONE
TZID:Europe/Vienna
BEGIN:DAYLIGHT
TZOFFSETFROM:+0100
TZOFFSETTO:+0200
TZNAME:CEST
DTSTART:20210328T010000
END:DAYLIGHT
BEGIN:STANDARD
TZOFFSETFROM:+0200
TZOFFSETTO:+0100
TZNAME:CET
DTSTART:20211031T010000
END:STANDARD
BEGIN:DAYLIGHT
TZOFFSETFROM:+0100
TZOFFSETTO:+0200
TZNAME:CEST
DTSTART:20220327T010000
END:DAYLIGHT
BEGIN:STANDARD
TZOFFSETFROM:+0200
TZOFFSETTO:+0100
TZNAME:CET
DTSTART:20221030T010000
END:STANDARD
BEGIN:DAYLIGHT
TZOFFSETFROM:+0100
TZOFFSETTO:+0200
TZNAME:CEST
DTSTART:20230326T010000
END:DAYLIGHT
BEGIN:STANDARD
TZOFFSETFROM:+0200
TZOFFSETTO:+0100
TZNAME:CET
DTSTART:20231029T010000
END:STANDARD
END:VTIMEZONE
BEGIN:VEVENT
DTSTART;VALUE=DATE:20221008
DTEND;VALUE=DATE:20221009
DTSTAMP:20260423T134035
CREATED:20220209T215633Z
LAST-MODIFIED:20221005T092634Z
UID:5697-1665187200-1665190800@www.sgl.at
SUMMARY:3-gun
DESCRIPTION:Termin\n08.10.2022\n\n\nOrt\nSchießplatz Haringsee\n\n\nTeilnehmer\n\nMitglieder der SGL und geladene Gäste\n\n\nBeginn\n09:00\n\n\nNennschluss\n10:00\n\n\nNenngeld\n—\n\n\nWaffen\nKK Repetierer\, GK Revolver\, GK Pistole\n\n\nVisier\nalle offen\n\n\nScheibe\nStahl\, IPSC Target\n\n\nEntfernung\nca 20m\n\n\nNicht zugelassen\nSchießjacken\n\n\nAblauf\nNach dem Startsignal beschießen von 5 Stahlzielen mit dem KK Einzellader (Sitzend aufgestützt)\,\nnach dem letzten Schuss Verschluss öffnen und Waffe ablegen.\nRevolver (liegt mit offener Trommel am Tisch) wird geladen und beschießen von 6 Stahlzielen\, nach dem letzten Schuss Trommel öffnen leeren und Waffe ablegen.\nPistole (im Holster) wird nach dem ziehen der Waffe geladen und beschiessen von 8 IPSC Targets (min 2 Schuss /Target).\nLetzter Schuss beendet die Zeitnehmung.Auswertung nach IPSC Regeln\n\n\nBemerkungen\nDie Aushänge betreffend Covid Verhaltensregeln an den Ständen sind zu beachten.\n\n\nDatenschutz\n\nEs wird darauf hingewiesen\, dass durch die Teilnahme an dieser Veranstaltung eine Ergebnisliste mit Vorname / Nachname und Platzierung auf unserer Webseite\, www.sgl.at\, unter der Rubrik „Ergebnisse“ zur Ansicht bzw. zum Download veröffentlicht wird. Durch die Teilnahme an dieser Veranstaltung erklärt sich jede/r Teilnehmer/in mit der Veröffentlichung auf unserer Webseite einverstanden. Die erhaltenen Daten werden nicht an Dritte weitergegeben.\n\n\n\n 
URL:https://www.sgl.at/event/3-gun
LOCATION:Haringsee\, Schiessplatzweg 1\, Haringsee\, 2286\, Austria
CATEGORIES:Bewerb
ORGANIZER;CN="Sch%C3%BCtzengilde Leopoldsdorf":MAILTO:office@sgl.at
END:VEVENT
END:VCALENDAR