BEGIN:VCALENDAR
VERSION:2.0
PRODID:-//sgl.at - ECPv6.15.20//NONSGML v1.0//EN
CALSCALE:GREGORIAN
METHOD:PUBLISH
X-WR-CALNAME:sgl.at
X-ORIGINAL-URL:https://www.sgl.at
X-WR-CALDESC:Veranstaltungen für sgl.at
REFRESH-INTERVAL;VALUE=DURATION:PT1H
X-Robots-Tag:noindex
X-PUBLISHED-TTL:PT1H
BEGIN:VTIMEZONE
TZID:Europe/Vienna
BEGIN:DAYLIGHT
TZOFFSETFROM:+0100
TZOFFSETTO:+0200
TZNAME:CEST
DTSTART:20200329T010000
END:DAYLIGHT
BEGIN:STANDARD
TZOFFSETFROM:+0200
TZOFFSETTO:+0100
TZNAME:CET
DTSTART:20201025T010000
END:STANDARD
BEGIN:DAYLIGHT
TZOFFSETFROM:+0100
TZOFFSETTO:+0200
TZNAME:CEST
DTSTART:20210328T010000
END:DAYLIGHT
BEGIN:STANDARD
TZOFFSETFROM:+0200
TZOFFSETTO:+0100
TZNAME:CET
DTSTART:20211031T010000
END:STANDARD
BEGIN:DAYLIGHT
TZOFFSETFROM:+0100
TZOFFSETTO:+0200
TZNAME:CEST
DTSTART:20220327T010000
END:DAYLIGHT
BEGIN:STANDARD
TZOFFSETFROM:+0200
TZOFFSETTO:+0100
TZNAME:CET
DTSTART:20221030T010000
END:STANDARD
END:VTIMEZONE
BEGIN:VEVENT
DTSTART;TZID=Europe/Vienna:20211213T060000
DTEND;TZID=Europe/Vienna:20211219T230000
DTSTAMP:20260423T165733
CREATED:20211208T085855Z
LAST-MODIFIED:20211219T164633Z
UID:5056-1639375200-1639954800@www.sgl.at
SUMMARY:Wintercup 21/22 1.DG
DESCRIPTION:  \n\n\n\nTermin\n13.- 19.12.2021\n\n\nOrt\nKeller Leopoldsdorf\n\n\nBeginn\n—\n\n\nNennschluss\n—\n\n\nNenngeld\n—\n\n\nWaffen\nFFW-GK\, FFW-KK\n\n\nVisier\noffene Visierung\n\n\nMunition\nGK ab 9mm/.38\, KK.22\n\n\nAnschlag\nstehend frei\n\n\nScheibe\n25m UIT Scheibe/Spiegel (liegt vor Ort auf)\n\n\nEntfernung\ngesamte Distanz Zuganlage\n\n\nNicht zugelassen\n—\n\n\nAblauf\nje Kaliber\n5 Schuß Probe\n10 Schuß für Wertung (die besten aus 15)\nEs wird jeweils am ersten Tag  (Montag) ein Wertungsblatt im Keller aufgelegt und dieses bleibt bis zum letzten Tag (Sonntag) vor Ort.\nAuf Grund der derzeitigen Covid Situation ist das Betreten des Kellers für jeweils eine Person gestattet (ausgenommen Personen die im gleichen Haushalt leben)\n\n\nBemerkungen\n—\n\n\n\n\n\n\n\n 
URL:https://www.sgl.at/event/wintercup-21-22
LOCATION:Keller Leopoldsdorf\, Hauptplatz\, Leopoldsdorf/M.\, 2285\, Austria
CATEGORIES:Bewerb
END:VEVENT
END:VCALENDAR